BEGIN:VCALENDAR
VERSION:2.0
PRODID:-//Morris Dems (MCDC) - ECPv6.15.20//NONSGML v1.0//EN
CALSCALE:GREGORIAN
METHOD:PUBLISH
X-ORIGINAL-URL:https://morrisdems.org
X-WR-CALDESC:Events for Morris Dems (MCDC)
REFRESH-INTERVAL;VALUE=DURATION:PT1H
X-Robots-Tag:noindex
X-PUBLISHED-TTL:PT1H
BEGIN:VTIMEZONE
TZID:America/New_York
BEGIN:DAYLIGHT
TZOFFSETFROM:-0500
TZOFFSETTO:-0400
TZNAME:EDT
DTSTART:20250309T070000
END:DAYLIGHT
BEGIN:STANDARD
TZOFFSETFROM:-0400
TZOFFSETTO:-0500
TZNAME:EST
DTSTART:20251102T060000
END:STANDARD
BEGIN:DAYLIGHT
TZOFFSETFROM:-0500
TZOFFSETTO:-0400
TZNAME:EDT
DTSTART:20260308T070000
END:DAYLIGHT
BEGIN:STANDARD
TZOFFSETFROM:-0400
TZOFFSETTO:-0500
TZNAME:EST
DTSTART:20261101T060000
END:STANDARD
BEGIN:DAYLIGHT
TZOFFSETFROM:-0500
TZOFFSETTO:-0400
TZNAME:EDT
DTSTART:20270314T070000
END:DAYLIGHT
BEGIN:STANDARD
TZOFFSETFROM:-0400
TZOFFSETTO:-0500
TZNAME:EST
DTSTART:20271107T060000
END:STANDARD
END:VTIMEZONE
BEGIN:VEVENT
DTSTART;TZID=America/New_York:20260314T130000
DTEND;TZID=America/New_York:20260314T143000
DTSTAMP:20260420T091644
CREATED:20260309T171927Z
LAST-MODIFIED:20260309T171927Z
UID:6806-1773493200-1773498600@morrisdems.org
SUMMARY:SOMA Town Hall
DESCRIPTION:Join the Maplewood Mayor Vic De Luca and South Orange Mayor Sheena Collum as well as the Maplewood and South Orange Democratic Committees for a Town Hall with Analilia Mejia. This is your chance to meet NJ-11’s Democratic nominee for Congress and join the fight to take Congress back from Trump and his MAGA cohort. \nWe’ll be hearing from local leaders as well as Analilia Mejia. \nRSVP to reserve your spot (Click here)
URL:https://morrisdems.org/event/soma-town-hall/
LOCATION:Maplewood Community Center\, Dehart Park\, 120 Burnett Ave\, Maplewood\, NJ\, 07040\, United States
ATTACH;FMTTYPE=image/png:https://morrisdems.org/wp-content/uploads/2026/03/38-Hanover-1.png
END:VEVENT
END:VCALENDAR