BEGIN:VCALENDAR
VERSION:2.0
PRODID:-//Morris Dems (MCDC) - ECPv6.15.20//NONSGML v1.0//EN
CALSCALE:GREGORIAN
METHOD:PUBLISH
X-ORIGINAL-URL:https://morrisdems.org
X-WR-CALDESC:Events for Morris Dems (MCDC)
REFRESH-INTERVAL;VALUE=DURATION:PT1H
X-Robots-Tag:noindex
X-PUBLISHED-TTL:PT1H
BEGIN:VTIMEZONE
TZID:America/New_York
BEGIN:DAYLIGHT
TZOFFSETFROM:-0500
TZOFFSETTO:-0400
TZNAME:EDT
DTSTART:20250309T070000
END:DAYLIGHT
BEGIN:STANDARD
TZOFFSETFROM:-0400
TZOFFSETTO:-0500
TZNAME:EST
DTSTART:20251102T060000
END:STANDARD
BEGIN:DAYLIGHT
TZOFFSETFROM:-0500
TZOFFSETTO:-0400
TZNAME:EDT
DTSTART:20260308T070000
END:DAYLIGHT
BEGIN:STANDARD
TZOFFSETFROM:-0400
TZOFFSETTO:-0500
TZNAME:EST
DTSTART:20261101T060000
END:STANDARD
BEGIN:DAYLIGHT
TZOFFSETFROM:-0500
TZOFFSETTO:-0400
TZNAME:EDT
DTSTART:20270314T070000
END:DAYLIGHT
BEGIN:STANDARD
TZOFFSETFROM:-0400
TZOFFSETTO:-0500
TZNAME:EST
DTSTART:20271107T060000
END:STANDARD
END:VTIMEZONE
BEGIN:VEVENT
DTSTART;TZID=America/New_York:20260425T100000
DTEND;TZID=America/New_York:20260425T130000
DTSTAMP:20260422T041533
CREATED:20260416T184736Z
LAST-MODIFIED:20260416T184756Z
UID:7022-1777111200-1777122000@morrisdems.org
SUMMARY:Rebecca Bennett for Congress Canvass Launch in Wharton
DESCRIPTION:Please join Rebecca Bennett for Congress for our Canvass Launch in Wharton as we continue building the grassroots movement to flip NJ-07. \nVolunteers will head out into the community to talk with voters about the issues facing our district\, share Rebecca’s vision for NJ-07\, and help grow support for the campaign. These conversations are one of the most important ways we connect with voters and win elections. \nWhether you’re brand new or a seasoned canvasser\, our team will provide training\, materials\, and support before heading out. \nSign up\, bring a friend\, and help us keep the momentum going! \n[Click here for more information/to register]
URL:https://morrisdems.org/event/rebecca-bennett-canvass/
ATTACH;FMTTYPE=image/png:https://morrisdems.org/wp-content/uploads/2026/04/Screenshot-2026-04-10-at-12.47.15-PM.png
END:VEVENT
BEGIN:VEVENT
DTSTART;TZID=America/New_York:20260426T100000
DTEND;TZID=America/New_York:20260426T170000
DTSTAMP:20260422T041533
CREATED:20260407T225959Z
LAST-MODIFIED:20260407T225959Z
UID:6942-1777197600-1777222800@morrisdems.org
SUMMARY:Long Hill Democrats @ Stirling's Community Street Fair & Food Truck Fest
DESCRIPTION:Stirling\, NJ will be having a street fair and the Long Hill Democrats will have a booth! \nClick here for more information: https://jcpromotions.info/product/jcs-annual-community-spring-stirling-street-fair-food-truck-fest/ \n 
URL:https://morrisdems.org/event/long-hill-democrats-stirlings-community-street-fair-food-truck-fest/
LOCATION:393 Main Ave\, 393 Main Ave\, Stirling\, NJ\, 07980\, United States
ATTACH;FMTTYPE=image/png:https://morrisdems.org/wp-content/uploads/2025/10/Long-Hill-Dems_featuredimage.png
END:VEVENT
END:VCALENDAR