BEGIN:VCALENDAR
VERSION:2.0
PRODID:-//Morris Dems (MCDC) - ECPv6.15.20//NONSGML v1.0//EN
CALSCALE:GREGORIAN
METHOD:PUBLISH
X-WR-CALNAME:Morris Dems (MCDC)
X-ORIGINAL-URL:https://morrisdems.org
X-WR-CALDESC:Events for Morris Dems (MCDC)
REFRESH-INTERVAL;VALUE=DURATION:PT1H
X-Robots-Tag:noindex
X-PUBLISHED-TTL:PT1H
BEGIN:VTIMEZONE
TZID:America/New_York
BEGIN:DAYLIGHT
TZOFFSETFROM:-0500
TZOFFSETTO:-0400
TZNAME:EDT
DTSTART:20210314T070000
END:DAYLIGHT
BEGIN:STANDARD
TZOFFSETFROM:-0400
TZOFFSETTO:-0500
TZNAME:EST
DTSTART:20211107T060000
END:STANDARD
BEGIN:DAYLIGHT
TZOFFSETFROM:-0500
TZOFFSETTO:-0400
TZNAME:EDT
DTSTART:20220313T070000
END:DAYLIGHT
BEGIN:STANDARD
TZOFFSETFROM:-0400
TZOFFSETTO:-0500
TZNAME:EST
DTSTART:20221106T060000
END:STANDARD
BEGIN:DAYLIGHT
TZOFFSETFROM:-0500
TZOFFSETTO:-0400
TZNAME:EDT
DTSTART:20230312T070000
END:DAYLIGHT
BEGIN:STANDARD
TZOFFSETFROM:-0400
TZOFFSETTO:-0500
TZNAME:EST
DTSTART:20231105T060000
END:STANDARD
END:VTIMEZONE
BEGIN:VEVENT
DTSTART;TZID=America/New_York:20220825T183000
DTEND;TZID=America/New_York:20220825T203000
DTSTAMP:20260423T065035
CREATED:20220811T023957Z
LAST-MODIFIED:20220815T161457Z
UID:1625-1661452200-1661459400@morrisdems.org
SUMMARY:Morris County Democratic Women's Caucus Dinner
DESCRIPTION:Morris County Democrats starts off the Women’s Weekend of Action with a dinner\, hosted by the Morris County Democratic Women’s Caucus\, on Thursday\, August 25 beginning at 6:30PM. \nJoin us for live music and passed appetizers in the outdoor space at Barka Mediterranean Cuisine in Mountain Lakes. To ensure the celebratory mood\, your first glass of prosecco is on us. Proceeds from this event will support our candidate members running for office this year. Come drink\, dine and dance with us and learn how you can support our incredible candidates. \nSign up to attend or become a sponsor.
URL:https://morrisdems.org/event/morris-county-democratic-womens-caucus-dinner/
CATEGORIES:Dinner Event,Fundraiser,MCDWC,Morris County Democratic Women's Caucus
ATTACH;FMTTYPE=image/png:https://morrisdems.org/wp-content/uploads/2022/08/pink-wine-glass-1-e1660351444875.png
ORGANIZER;CN="Morris County Democratic Committee":MAILTO:info@morrisdems.org
END:VEVENT
END:VCALENDAR